BEGIN:VCALENDAR
VERSION:2.0
PRODID:-//Columbia Falls Freemasons #89 - ECPv6.15.20//NONSGML v1.0//EN
CALSCALE:GREGORIAN
METHOD:PUBLISH
X-WR-CALNAME:Columbia Falls Freemasons #89
X-ORIGINAL-URL:https://columbiafalls89.com
X-WR-CALDESC:Events for Columbia Falls Freemasons #89
REFRESH-INTERVAL;VALUE=DURATION:PT1H
X-Robots-Tag:noindex
X-PUBLISHED-TTL:PT1H
BEGIN:VTIMEZONE
TZID:America/Phoenix
BEGIN:STANDARD
TZOFFSETFROM:-0700
TZOFFSETTO:-0700
TZNAME:MST
DTSTART:20250101T000000
END:STANDARD
END:VTIMEZONE
BEGIN:VEVENT
DTSTART;TZID=America/Phoenix:20260603T183000
DTEND;TZID=America/Phoenix:20260603T203000
DTSTAMP:20260423T092702
CREATED:20250930T230132Z
LAST-MODIFIED:20250930T230132Z
UID:1363-1780511400-1780518600@columbiafalls89.com
SUMMARY:Stated meeting
DESCRIPTION:
URL:https://columbiafalls89.com/event/stated-meeting-23/
END:VEVENT
BEGIN:VEVENT
DTSTART;TZID=America/Phoenix:20260610T180000
DTEND;TZID=America/Phoenix:20260610T193000
DTSTAMP:20260423T092702
CREATED:20250930T230440Z
LAST-MODIFIED:20250930T230440Z
UID:1366-1781114400-1781119800@columbiafalls89.com
SUMMARY:Social Time
DESCRIPTION:
URL:https://columbiafalls89.com/event/social-time-10/
END:VEVENT
BEGIN:VEVENT
DTSTART;TZID=America/Phoenix:20260617T183000
DTEND;TZID=America/Phoenix:20260617T203000
DTSTAMP:20260423T092702
CREATED:20250930T230554Z
LAST-MODIFIED:20250930T230554Z
UID:1368-1781721000-1781728200@columbiafalls89.com
SUMMARY:Stated Meeting
DESCRIPTION:
URL:https://columbiafalls89.com/event/stated-meeting-24/
END:VEVENT
BEGIN:VEVENT
DTSTART;TZID=America/Phoenix:20260624T180000
DTEND;TZID=America/Phoenix:20260624T193000
DTSTAMP:20260423T092702
CREATED:20250930T230839Z
LAST-MODIFIED:20250930T230839Z
UID:1370-1782324000-1782329400@columbiafalls89.com
SUMMARY:Social Time
DESCRIPTION:
URL:https://columbiafalls89.com/event/social-time-11/
END:VEVENT
END:VCALENDAR