BEGIN:VCALENDAR
VERSION:2.0
PRODID:-//Columbia Falls Freemasons #89 - ECPv6.15.20//NONSGML v1.0//EN
CALSCALE:GREGORIAN
METHOD:PUBLISH
X-ORIGINAL-URL:https://columbiafalls89.com
X-WR-CALDESC:Events for Columbia Falls Freemasons #89
REFRESH-INTERVAL;VALUE=DURATION:PT1H
X-Robots-Tag:noindex
X-PUBLISHED-TTL:PT1H
BEGIN:VTIMEZONE
TZID:America/Phoenix
BEGIN:STANDARD
TZOFFSETFROM:-0700
TZOFFSETTO:-0700
TZNAME:MST
DTSTART:20250101T000000
END:STANDARD
END:VTIMEZONE
BEGIN:VEVENT
DTSTART;TZID=America/Phoenix:20260204T183000
DTEND;TZID=America/Phoenix:20260204T203000
DTSTAMP:20260423T092754
CREATED:20250930T220114Z
LAST-MODIFIED:20250930T220114Z
UID:1309-1770229800-1770237000@columbiafalls89.com
SUMMARY:Stated Meeting
DESCRIPTION:
URL:https://columbiafalls89.com/event/stated-meeting-15/
END:VEVENT
BEGIN:VEVENT
DTSTART;TZID=America/Phoenix:20260211T180000
DTEND;TZID=America/Phoenix:20260211T203000
DTSTAMP:20260423T092754
CREATED:20250930T220528Z
LAST-MODIFIED:20250930T220528Z
UID:1311-1770832800-1770841800@columbiafalls89.com
SUMMARY:Sweetheart and Americanism Dinner
DESCRIPTION:
URL:https://columbiafalls89.com/event/sweetheart-and-americanism-dinner/
END:VEVENT
BEGIN:VEVENT
DTSTART;TZID=America/Phoenix:20260218T183000
DTEND;TZID=America/Phoenix:20260218T203000
DTSTAMP:20260423T092754
CREATED:20250930T220708Z
LAST-MODIFIED:20250930T220708Z
UID:1313-1771439400-1771446600@columbiafalls89.com
SUMMARY:Stated Meeting
DESCRIPTION:
URL:https://columbiafalls89.com/event/stated-meeting-16/
END:VEVENT
BEGIN:VEVENT
DTSTART;TZID=America/Phoenix:20260225T180000
DTEND;TZID=America/Phoenix:20260225T193000
DTSTAMP:20260423T092754
CREATED:20250930T220907Z
LAST-MODIFIED:20250930T220907Z
UID:1316-1772042400-1772047800@columbiafalls89.com
SUMMARY:Social Time
DESCRIPTION:
URL:https://columbiafalls89.com/event/social-time-3/
END:VEVENT
END:VCALENDAR