BEGIN:VCALENDAR
VERSION:2.0
PRODID:-//Columbia Falls Freemasons #89 - ECPv6.15.20//NONSGML v1.0//EN
CALSCALE:GREGORIAN
METHOD:PUBLISH
X-ORIGINAL-URL:https://columbiafalls89.com
X-WR-CALDESC:Events for Columbia Falls Freemasons #89
REFRESH-INTERVAL;VALUE=DURATION:PT1H
X-Robots-Tag:noindex
X-PUBLISHED-TTL:PT1H
BEGIN:VTIMEZONE
TZID:America/Phoenix
BEGIN:STANDARD
TZOFFSETFROM:-0700
TZOFFSETTO:-0700
TZNAME:MST
DTSTART:20250101T000000
END:STANDARD
END:VTIMEZONE
BEGIN:VEVENT
DTSTART;TZID=America/Phoenix:20260107T183000
DTEND;TZID=America/Phoenix:20260107T203000
DTSTAMP:20260423T104742
CREATED:20250930T232050Z
LAST-MODIFIED:20250930T232050Z
UID:1373-1767810600-1767817800@columbiafalls89.com
SUMMARY:Stated Meeting
DESCRIPTION:
URL:https://columbiafalls89.com/event/stated-meeting-25/
END:VEVENT
BEGIN:VEVENT
DTSTART;TZID=America/Phoenix:20260114T180000
DTEND;TZID=America/Phoenix:20260114T193000
DTSTAMP:20260423T104742
CREATED:20250930T215608Z
LAST-MODIFIED:20250930T215608Z
UID:1304-1768413600-1768419000@columbiafalls89.com
SUMMARY:Social Time
DESCRIPTION:
URL:https://columbiafalls89.com/event/social-time-2/
END:VEVENT
BEGIN:VEVENT
DTSTART;TZID=America/Phoenix:20260117T090000
DTEND;TZID=America/Phoenix:20260117T230000
DTSTAMP:20260423T104742
CREATED:20250930T214249Z
LAST-MODIFIED:20250930T214249Z
UID:1296-1768640400-1768690800@columbiafalls89.com
SUMMARY:Breakfast/ Lodge Maintenance
DESCRIPTION:
URL:https://columbiafalls89.com/event/breakfast-lodge-maintenance/
END:VEVENT
END:VCALENDAR