BEGIN:VCALENDAR
VERSION:2.0
PRODID:-//Columbia Falls Freemasons #89 - ECPv6.15.20//NONSGML v1.0//EN
CALSCALE:GREGORIAN
METHOD:PUBLISH
X-WR-CALNAME:Columbia Falls Freemasons #89
X-ORIGINAL-URL:https://columbiafalls89.com
X-WR-CALDESC:Events for Columbia Falls Freemasons #89
REFRESH-INTERVAL;VALUE=DURATION:PT1H
X-Robots-Tag:noindex
X-PUBLISHED-TTL:PT1H
BEGIN:VTIMEZONE
TZID:America/Phoenix
BEGIN:STANDARD
TZOFFSETFROM:-0700
TZOFFSETTO:-0700
TZNAME:MST
DTSTART:20240101T000000
END:STANDARD
END:VTIMEZONE
BEGIN:VEVENT
DTSTART;TZID=America/Phoenix:20251203T183000
DTEND;TZID=America/Phoenix:20251203T203000
DTSTAMP:20260423T120743
CREATED:20250930T213406Z
LAST-MODIFIED:20250930T213406Z
UID:1288-1764786600-1764793800@columbiafalls89.com
SUMMARY:Stated Meeting
DESCRIPTION:
URL:https://columbiafalls89.com/event/stated-meeting-12/
END:VEVENT
BEGIN:VEVENT
DTSTART;TZID=America/Phoenix:20251210T180000
DTEND;TZID=America/Phoenix:20251210T200000
DTSTAMP:20260423T120743
CREATED:20250930T213710Z
LAST-MODIFIED:20250930T213710Z
UID:1290-1765389600-1765396800@columbiafalls89.com
SUMMARY:Christmas & Past Masters Dinner
DESCRIPTION:
URL:https://columbiafalls89.com/event/christmas-past-masters-dinner/
END:VEVENT
BEGIN:VEVENT
DTSTART;TZID=America/Phoenix:20251217T183000
DTEND;TZID=America/Phoenix:20251217T203000
DTSTAMP:20260423T120743
CREATED:20250930T213839Z
LAST-MODIFIED:20250930T213839Z
UID:1292-1765996200-1766003400@columbiafalls89.com
SUMMARY:Stated Meeting
DESCRIPTION:
URL:https://columbiafalls89.com/event/stated-meeting-13/
END:VEVENT
END:VCALENDAR