BEGIN:VCALENDAR
VERSION:2.0
PRODID:-//Columbia Falls Freemasons #89 - ECPv6.15.20//NONSGML v1.0//EN
CALSCALE:GREGORIAN
METHOD:PUBLISH
X-ORIGINAL-URL:https://columbiafalls89.com
X-WR-CALDESC:Events for Columbia Falls Freemasons #89
REFRESH-INTERVAL;VALUE=DURATION:PT1H
X-Robots-Tag:noindex
X-PUBLISHED-TTL:PT1H
BEGIN:VTIMEZONE
TZID:America/Phoenix
BEGIN:STANDARD
TZOFFSETFROM:-0700
TZOFFSETTO:-0700
TZNAME:MST
DTSTART:20240101T000000
END:STANDARD
END:VTIMEZONE
BEGIN:VEVENT
DTSTART;TZID=America/Phoenix:20251001T190000
DTEND;TZID=America/Phoenix:20251001T203000
DTSTAMP:20260423T144504
CREATED:20250930T210626Z
LAST-MODIFIED:20250930T210822Z
UID:1271-1759345200-1759350600@columbiafalls89.com
SUMMARY:Stated Meeting
DESCRIPTION:
URL:https://columbiafalls89.com/event/stated-meeting-7/
END:VEVENT
BEGIN:VEVENT
DTSTART;TZID=America/Phoenix:20251001T190000
DTEND;TZID=America/Phoenix:20251001T203000
DTSTAMP:20260423T144504
CREATED:20250930T210948Z
LAST-MODIFIED:20250930T210948Z
UID:1273-1759345200-1759350600@columbiafalls89.com
SUMMARY:Stated Meeting
DESCRIPTION:
URL:https://columbiafalls89.com/event/stated-meeting-8/
END:VEVENT
BEGIN:VEVENT
DTSTART;TZID=America/Phoenix:20251008T180000
DTEND;TZID=America/Phoenix:20251008T193000
DTSTAMP:20260423T144504
CREATED:20250930T205921Z
LAST-MODIFIED:20250930T210313Z
UID:1268-1759946400-1759951800@columbiafalls89.com
SUMMARY:Social Time
DESCRIPTION:
URL:https://columbiafalls89.com/event/stated-meeting-6/
END:VEVENT
BEGIN:VEVENT
DTSTART;TZID=America/Phoenix:20251015T190000
DTEND;TZID=America/Phoenix:20251015T203000
DTSTAMP:20260423T144504
CREATED:20250930T211232Z
LAST-MODIFIED:20250930T211232Z
UID:1275-1760554800-1760560200@columbiafalls89.com
SUMMARY:Stated  Meeting
DESCRIPTION:
URL:https://columbiafalls89.com/event/stated-meeting-9/
END:VEVENT
BEGIN:VEVENT
DTSTART;TZID=America/Phoenix:20251022T180000
DTEND;TZID=America/Phoenix:20251022T203000
DTSTAMP:20260423T144504
CREATED:20250930T211457Z
LAST-MODIFIED:20250930T211457Z
UID:1277-1761156000-1761165000@columbiafalls89.com
SUMMARY:Wives and Teachers Dinner
DESCRIPTION:
URL:https://columbiafalls89.com/event/wives-and-teachers-dinner/
END:VEVENT
END:VCALENDAR