BEGIN:VCALENDAR
VERSION:2.0
PRODID:-//Columbia Falls Freemasons #89 - ECPv6.15.20//NONSGML v1.0//EN
CALSCALE:GREGORIAN
METHOD:PUBLISH
X-ORIGINAL-URL:https://columbiafalls89.com
X-WR-CALDESC:Events for Columbia Falls Freemasons #89
REFRESH-INTERVAL;VALUE=DURATION:PT1H
X-Robots-Tag:noindex
X-PUBLISHED-TTL:PT1H
BEGIN:VTIMEZONE
TZID:America/Phoenix
BEGIN:STANDARD
TZOFFSETFROM:-0700
TZOFFSETTO:-0700
TZNAME:MST
DTSTART:20240101T000000
END:STANDARD
END:VTIMEZONE
BEGIN:VEVENT
DTSTART;TZID=America/Phoenix:20250305T180000
DTEND;TZID=America/Phoenix:20250305T203000
DTSTAMP:20260423T230058
CREATED:20250305T191340Z
LAST-MODIFIED:20250305T191340Z
UID:1164-1741197600-1741206600@columbiafalls89.com
SUMMARY:
DESCRIPTION:March 5 6:00pm Stated Meeting/ Officer move up practice
URL:https://columbiafalls89.com/event/1164/
END:VEVENT
BEGIN:VEVENT
DTSTART;TZID=America/Phoenix:20250305T180000
DTEND;TZID=America/Phoenix:20250305T203000
DTSTAMP:20260423T230058
CREATED:20250305T192035Z
LAST-MODIFIED:20250305T192035Z
UID:1170-1741197600-1741206600@columbiafalls89.com
SUMMARY:Stated Meeting/ Officer Move Up
DESCRIPTION:
URL:https://columbiafalls89.com/event/stated-meeting-officer-move-up/
END:VEVENT
BEGIN:VEVENT
DTSTART;TZID=America/Phoenix:20250312T180000
DTEND;TZID=America/Phoenix:20250312T193000
DTSTAMP:20260423T230058
CREATED:20250305T192943Z
LAST-MODIFIED:20250305T193055Z
UID:1174-1741802400-1741807800@columbiafalls89.com
SUMMARY:Social time/Practice/Masonic Education
DESCRIPTION:
URL:https://columbiafalls89.com/event/social-time-practice-masonic-education/
END:VEVENT
BEGIN:VEVENT
DTSTART;TZID=America/Phoenix:20250315T090000
DTEND;TZID=America/Phoenix:20250315T120000
DTSTAMP:20260423T230058
CREATED:20250305T192506Z
LAST-MODIFIED:20250305T192506Z
UID:1172-1742029200-1742040000@columbiafalls89.com
SUMMARY:Breakfast and Lodge Maintenance
DESCRIPTION:
URL:https://columbiafalls89.com/event/breakfast-and-lodge-maintenance/
END:VEVENT
BEGIN:VEVENT
DTSTART;TZID=America/Phoenix:20250319T180000
DTEND;TZID=America/Phoenix:20250319T203000
DTSTAMP:20260423T230058
CREATED:20250305T194042Z
LAST-MODIFIED:20250305T194042Z
UID:1176-1742407200-1742416200@columbiafalls89.com
SUMMARY:Stated Meeting
DESCRIPTION:
URL:https://columbiafalls89.com/event/stated-meeting-4/
END:VEVENT
BEGIN:VEVENT
DTSTART;TZID=America/Phoenix:20250326T180000
DTEND;TZID=America/Phoenix:20250326T193000
DTSTAMP:20260423T230058
CREATED:20250305T194314Z
LAST-MODIFIED:20250305T194504Z
UID:1178-1743012000-1743017400@columbiafalls89.com
SUMMARY:Social Time/ Practice/ Masonic Education
DESCRIPTION:
URL:https://columbiafalls89.com/event/social-time-practice-masonic-education-2/
END:VEVENT
BEGIN:VEVENT
DTSTART;TZID=America/Phoenix:20250326T180000
DTEND;TZID=America/Phoenix:20250326T193000
DTSTAMP:20260423T230058
CREATED:20250305T194817Z
LAST-MODIFIED:20250305T194817Z
UID:1180-1743012000-1743017400@columbiafalls89.com
SUMMARY:Social Time/ Practice/ Masonic Education
DESCRIPTION:
URL:https://columbiafalls89.com/event/social-time-practice-masonic-education-3/
END:VEVENT
END:VCALENDAR