BEGIN:VCALENDAR
VERSION:2.0
PRODID:-//Columbia Falls Freemasons #89 - ECPv6.15.20//NONSGML v1.0//EN
CALSCALE:GREGORIAN
METHOD:PUBLISH
X-WR-CALNAME:Columbia Falls Freemasons #89
X-ORIGINAL-URL:https://columbiafalls89.com
X-WR-CALDESC:Events for Columbia Falls Freemasons #89
REFRESH-INTERVAL;VALUE=DURATION:PT1H
X-Robots-Tag:noindex
X-PUBLISHED-TTL:PT1H
BEGIN:VTIMEZONE
TZID:America/Phoenix
BEGIN:STANDARD
TZOFFSETFROM:-0700
TZOFFSETTO:-0700
TZNAME:MST
DTSTART:20240101T000000
END:STANDARD
END:VTIMEZONE
BEGIN:VEVENT
DTSTART;TZID=America/Phoenix:20250201T090000
DTEND;TZID=America/Phoenix:20250201T170000
DTSTAMP:20260424T001036
CREATED:20250123T175917Z
LAST-MODIFIED:20250123T175925Z
UID:393-1738400400-1738429200@columbiafalls89.com
SUMMARY:Third Degree Conferral
DESCRIPTION:
URL:https://columbiafalls89.com/event/third-degree-conferral/
LOCATION:Lodge #89 Columbia Falls
END:VEVENT
BEGIN:VEVENT
DTSTART;TZID=America/Phoenix:20250205T180000
DTEND;TZID=America/Phoenix:20250205T180000
DTSTAMP:20260424T001036
CREATED:20250122T191908Z
LAST-MODIFIED:20250122T191912Z
UID:378-1738778400-1738778400@columbiafalls89.com
SUMMARY:Stated Meeting
DESCRIPTION:Plan Swewethearts Dinner and Americanism program
URL:https://columbiafalls89.com/event/stated-meeting-3/
LOCATION:Lodge #89 Columbia Falls
END:VEVENT
BEGIN:VEVENT
DTSTART;TZID=America/Phoenix:20250212T180000
DTEND;TZID=America/Phoenix:20250212T180000
DTSTAMP:20260424T001036
CREATED:20250122T192553Z
LAST-MODIFIED:20250122T192601Z
UID:380-1739383200-1739383200@columbiafalls89.com
SUMMARY:Sweetheart's Dinner Americanism Program
DESCRIPTION:Speaker?
URL:https://columbiafalls89.com/event/sweethearts-dinner-americanism-program/
LOCATION:Lodge #89 Columbia Falls
END:VEVENT
BEGIN:VEVENT
DTSTART;TZID=America/Phoenix:20250219T180000
DTEND;TZID=America/Phoenix:20250219T180000
DTSTAMP:20260424T001036
CREATED:20250121T165355Z
LAST-MODIFIED:20250122T192702Z
UID:293-1739988000-1739988000@columbiafalls89.com
SUMMARY:Stated Meeting
DESCRIPTION:
URL:https://columbiafalls89.com/event/tiled-meeting-2/
LOCATION:Lodge #89 Columbia Falls
END:VEVENT
BEGIN:VEVENT
DTSTART;TZID=America/Phoenix:20250226T180000
DTEND;TZID=America/Phoenix:20250226T180000
DTSTAMP:20260424T001036
CREATED:20250122T192900Z
LAST-MODIFIED:20250122T192907Z
UID:383-1740592800-1740592800@columbiafalls89.com
SUMMARY:Social Masonic Education
DESCRIPTION:Lodge Instructor
URL:https://columbiafalls89.com/event/social-masonic-education/
LOCATION:Lodge #89 Columbia Falls
END:VEVENT
END:VCALENDAR