BEGIN:VCALENDAR
VERSION:2.0
PRODID:-//Columbia Falls Freemasons #89 - ECPv6.15.20//NONSGML v1.0//EN
CALSCALE:GREGORIAN
METHOD:PUBLISH
X-ORIGINAL-URL:https://columbiafalls89.com
X-WR-CALDESC:Events for Columbia Falls Freemasons #89
REFRESH-INTERVAL;VALUE=DURATION:PT1H
X-Robots-Tag:noindex
X-PUBLISHED-TTL:PT1H
BEGIN:VTIMEZONE
TZID:America/Phoenix
BEGIN:STANDARD
TZOFFSETFROM:-0700
TZOFFSETTO:-0700
TZNAME:MST
DTSTART:20240101T000000
END:STANDARD
END:VTIMEZONE
BEGIN:VEVENT
DTSTART;TZID=America/Phoenix:20250108T180000
DTEND;TZID=America/Phoenix:20250108T180000
DTSTAMP:20260424T013722
CREATED:20250122T185845Z
LAST-MODIFIED:20250122T191047Z
UID:366-1736359200-1736359200@columbiafalls89.com
SUMMARY:Stated Meeting
DESCRIPTION:Possible St. John’s Night
URL:https://columbiafalls89.com/event/stated-meeting/
LOCATION:Lodge #89 Columbia Falls
END:VEVENT
BEGIN:VEVENT
DTSTART;TZID=America/Phoenix:20250115T180000
DTEND;TZID=America/Phoenix:20250115T180000
DTSTAMP:20260424T013722
CREATED:20250122T190544Z
LAST-MODIFIED:20250122T190816Z
UID:369-1736964000-1736964000@columbiafalls89.com
SUMMARY:Stated Meeting
DESCRIPTION:Where are we with Degrees? \nPlan St. John’s Table Lodge.
URL:https://columbiafalls89.com/event/stated-meeting-2/
LOCATION:Lodge #89 Columbia Falls
END:VEVENT
BEGIN:VEVENT
DTSTART;TZID=America/Phoenix:20250118T080000
DTEND;TZID=America/Phoenix:20250118T080000
DTSTAMP:20260424T013722
CREATED:20250122T191542Z
LAST-MODIFIED:20250122T191546Z
UID:374-1737187200-1737187200@columbiafalls89.com
SUMMARY:Breakfast
DESCRIPTION:Hall Cleanup\, Cooks
URL:https://columbiafalls89.com/event/breakfast/
LOCATION:Lodge #89 Columbia Falls
END:VEVENT
BEGIN:VEVENT
DTSTART;TZID=America/Phoenix:20250122T180000
DTEND;TZID=America/Phoenix:20250122T180000
DTSTAMP:20260424T013722
CREATED:20250122T191704Z
LAST-MODIFIED:20250122T191709Z
UID:376-1737568800-1737568800@columbiafalls89.com
SUMMARY:St. John's Table Lodge
DESCRIPTION:
URL:https://columbiafalls89.com/event/st-johns-table-lodge/
LOCATION:Lodge #89 Columbia Falls
END:VEVENT
BEGIN:VEVENT
DTSTART;TZID=America/Phoenix:20250129T180000
DTEND;TZID=America/Phoenix:20250129T180000
DTSTAMP:20260424T013722
CREATED:20250123T175707Z
LAST-MODIFIED:20250123T175957Z
UID:391-1738173600-1738173600@columbiafalls89.com
SUMMARY:Third Degree Practice
DESCRIPTION:
URL:https://columbiafalls89.com/event/third-degree-practice/
LOCATION:Lodge #89 Columbia Falls
END:VEVENT
END:VCALENDAR